BEGIN:VCALENDAR
VERSION:2.0
PRODID:-//ChainWireNOW - ECPv6.14.2//NONSGML v1.0//EN
CALSCALE:GREGORIAN
METHOD:PUBLISH
X-WR-CALNAME:ChainWireNOW
X-ORIGINAL-URL:https://chainwirenow.com
X-WR-CALDESC:Events for ChainWireNOW
REFRESH-INTERVAL;VALUE=DURATION:PT1H
X-Robots-Tag:noindex
X-PUBLISHED-TTL:PT1H
BEGIN:VTIMEZONE
TZID:America/New_York
BEGIN:DAYLIGHT
TZOFFSETFROM:-0500
TZOFFSETTO:-0400
TZNAME:EDT
DTSTART:20250309T070000
END:DAYLIGHT
BEGIN:STANDARD
TZOFFSETFROM:-0400
TZOFFSETTO:-0500
TZNAME:EST
DTSTART:20251102T060000
END:STANDARD
END:VTIMEZONE
BEGIN:VEVENT
DTSTART;TZID=America/New_York:20250930T090000
DTEND;TZID=America/New_York:20250930T090000
DTSTAMP:20260422T194808
CREATED:20250902T071357Z
LAST-MODIFIED:20250902T071553Z
UID:991892-1759222800-1759222800@chainwirenow.com
SUMMARY:EXIN Blockchain Essentials – 1-Day Training | Fishers\, IN
DESCRIPTION:About this event\n\nBusiness • Educators\n\n\n\n\n\nCertificate: Upon Completion of Exam \nLanguage: English \nDuration: 1 Day \nCredits: 8 \nCourse Delivery: Classroom \nRefreshments: Snacks\, Beverages and Lunch included in a classroom session \nCourse Overview: \nEXIN Blockchain Essentials is a foundation level certification. It has been designed to create a basic understanding of blockchain and the business value of a cryptographic and smart contract solution. It validates a professional’s knowledge about blockchain as a ledger with potential as a worldwide\, decentralized record for the registration\, inventory\, and transfer of assets: finance\, property\, products and intangible assets such as votes\, software\, health data and ideas. The certification covers the basic concepts of blockchain\, the potential fields of application\, the potential value for the organization and the technology driving blockchain \nMain Subjects: \nEXIN Blockchain Essentials is a certification that validates a professional’s knowledge about: \n\nBlockchain basics\nBlockchain challenges\nApplications of a blockchain\nBlockchain innovations\n\nLearning Objectives \nBy the end of this course\, you will be able to: \n\nExplain how a blockchain works\nExplain the purpose ledgers have in a blockchain\nIdentify blockchain vulnerabilities\nExplain the role of the public witness in a blockchain\nExplain the role of decentralized autonomous organizations (DOA) and sophisticated smart contracts\nDescribe possible applications for a blockchain with regard to identity.\nIdentify the possibilities of combining a blockchain with internet of things (IoT) or artificial intelligence (AI)\nDescribe the role a blockchain can play in the supply chain\nExplain what digital fiat currency and disruption in banking and currency are\nExplain the use of blockchain technology for the protection of intellectual property right (IP) and providence\n\nWho is this certification for? \nThis certification is tailored to professionals involved in business operations in any domain\, who are interested in blockchain as a cryptographic and smart contract solution. \nRequirements for Certification: \nSuccessful completion of the EXIN Blockchain Essentials exam. \nExamination Details \n\nExamination type: Multiple-choice questions\nNumber of questions: 20\nPass mark: 65%\nOpen book/notes: No\nElectronic equipment/aides permitted: No\nExam duration: 30 minutes\n\nThe Rules and Regulations for EXIN’s examinations apply to this exam. \nRequired reading \nIntroduction to Blockchain Technology – The many faces of blockchain technology in the 21st century \nTiana Laurence \nVan Haren Publishing (November 2019) \nISBN: 978 94 018 0499 8 (hardcopy) \nISBN: 978 94 018 0501 8 (eBook) \nISBN: 978 94 018 0504 9 (ePub) \n\n\n\n\nWhat Makes This EXIN Blockchain Essentials Course Valuable in Today’s AI-Driven World?\n  \n\nUnderstand the fundamentals of blockchain technology: Build a solid foundation in how blockchain functions as a decentralized ledger system for secure asset registration and transfer.\nExplore the intersection of blockchain\, AI\, and IoT: Learn how blockchain integrates with emerging technologies like artificial intelligence and the Internet of Things to power smarter\, more secure ecosystems.\nUnlock the real business value of blockchain: Discover how blockchain can streamline operations\, improve transparency\, and increase trust across industries including finance\, healthcare\, and supply chains.\nGain insight into smart contracts and decentralized systems: Understand how smart contracts and decentralized autonomous organizations (DAOs) are transforming how agreements and processes are executed digitally.\nIdentify blockchain vulnerabilities and how to manage them: Develop awareness of key security risks within blockchain systems and how to mitigate them—essential in today’s data-sensitive world.\nUnderstand blockchain’s role in identity and intellectual property protection: Explore how blockchain supports secure digital identity management and safeguards intellectual property rights.\nExamine how blockchain is disrupting traditional finance and banking: Get introduced to digital fiat currencies and the future of money\, while understanding blockchain’s impact on financial systems.\nLearn from real-world applications: From voting systems to supply chains and healthcare data\, explore practical use cases that demonstrate blockchain’s transformative potential.\nEarn a globally recognized foundation certificate: This 1-day certification provides formal recognition of your blockchain literacy—valuable for professionals in business\, tech\, or innovation roles.\n\n“This content and material is developed and owned by Mangates Tech Solutions\, accredited by EXIN for delivering certified training programs.”
URL:https://chainwirenow.com/events/exin-blockchain-essentials-1-day-training-fishers-in/
LOCATION:Regus – Indianapolis – Fishers\, 10475 Crosspoint Blvd. Suite 250 PH: +1 469 666 9332 Indianapolis\, IN 46256 United States
CATEGORIES:BlockChain
ATTACH;FMTTYPE=image/jpeg:https://chainwirenow.com/wp-content/uploads/2025/09/EXIN-Blockchain-Essentials-–-1-Day-Training-Fishers-IN-ChainWireNOW-Events.jpeg
ORGANIZER;CN="Mount Skills":MAILTO:eventbrite@mountskills.com
END:VEVENT
BEGIN:VEVENT
DTSTART;TZID=America/New_York:20250930T183000
DTEND;TZID=America/New_York:20250930T203000
DTSTAMP:20260422T194808
CREATED:20250924T075157Z
LAST-MODIFIED:20250924T075157Z
UID:992000-1759257000-1759264200@chainwirenow.com
SUMMARY:Digital Assets Uncorked ✅
DESCRIPTION:About this event\n\nBusiness • Finance\n\n\n\n\n\n\nDigital Assets Uncorked \nCome join us for a fun and informative event where we will be discussing all things digital assets! Whether you’re a seasoned investor or just curious about this exciting space\, this event is perfect for you. Our expert speaker will uncork the mysteries surrounding digital assets and provide valuable insights. The event will take place at 4605 Forest Dr ste 6\, so mark your calendars and get ready to expand your knowledge in a relaxed and friendly atmosphere. Don’t miss out on this opportunity to mingle with like-minded individuals and learn more about the world of digital assets! \nEvent is open to the public with ticket. Do not need to be wine club member.
URL:https://chainwirenow.com/events/digital-assets-uncorked-%e2%9c%85/
LOCATION:Moltó Vino Wine Club\, 4605 Forest Drive #ste 6 Columbia\, SC 29206 United States
CATEGORIES:BlockChain
ATTACH;FMTTYPE=image/jpeg:https://chainwirenow.com/wp-content/uploads/2025/09/ChainWireNOW-Events-Digital-Assets-Uncorked-✅.jpeg
ORGANIZER;CN="Token Mosaic":MAILTO:hello@brownssolutions.com
END:VEVENT
END:VCALENDAR