BEGIN:VCALENDAR
VERSION:2.0
PRODID:-//ChainWireNOW - ECPv6.14.2//NONSGML v1.0//EN
CALSCALE:GREGORIAN
METHOD:PUBLISH
X-WR-CALNAME:ChainWireNOW
X-ORIGINAL-URL:https://chainwirenow.com
X-WR-CALDESC:Events for ChainWireNOW
REFRESH-INTERVAL;VALUE=DURATION:PT1H
X-Robots-Tag:noindex
X-PUBLISHED-TTL:PT1H
BEGIN:VTIMEZONE
TZID:America/New_York
BEGIN:DAYLIGHT
TZOFFSETFROM:-0500
TZOFFSETTO:-0400
TZNAME:EDT
DTSTART:20260308T070000
END:DAYLIGHT
BEGIN:STANDARD
TZOFFSETFROM:-0400
TZOFFSETTO:-0500
TZNAME:EST
DTSTART:20261101T060000
END:STANDARD
END:VTIMEZONE
BEGIN:VEVENT
DTSTART;TZID=America/New_York:20260421T050000
DTEND;TZID=America/New_York:20260421T130000
DTSTAMP:20260421T020502
CREATED:20260409T094904Z
LAST-MODIFIED:20260409T094904Z
UID:993095-1776747600-1776776400@chainwirenow.com
SUMMARY:Intro to Blockchain for Non-Developers – 1-Day Course | Raleigh\, NC
DESCRIPTION:Overview\n\n\n\nLearn blockchain in clear\, business-friendly terms & understand when and how it delivers real value—without any coding or technical complexi \n\n\n\n\nGroup Discounts:\nSave 10% when registering 3 or more participants\nSave 15% when registering 10 or more participants \nAbout the course:\nDuration: 1 Full Day (8 Hours)\nDelivery Mode: Classroom (In-Person)\nLanguage: English\nCredits: 8 PDUs / Training Hours\nCertification: Course Completion Certificate\nRefreshments: Lunch\, Snacks and beverages will be provided during the session \nCourse Overview:\nThis workshop provides a clear and practical introduction to blockchain technology for business professionals without technical backgrounds. You learn what blockchain does\, why organizations use it\, and the types of problems it can realistically solve. The session focuses on understanding business value\, evaluating use cases\, and making informed decisions—not programming or advanced technical detail. By the end of the day\, participants will be able to confidently discuss blockchain opportunities and assess whether it is the right solution for a given business need. \nLearning Objectives\nBy the end of this course\, you will: \n• Understand blockchain in simple and practical terms\n• Identify real business problems blockchain is suitable for\n• Evaluate use cases and avoid technology hype\n• Understand smart contracts without coding\n• Assess organizational readiness for blockchain adoption\n• Create a clear next-step exploration plan for your organization \nTarget Audience:\n• Business Professionals & Managers\n• Consultants & Strategy Advisors\n• Entrepreneurs & Startup Builders\n• Product & Innovation Teams\n• Supply Chain\, Finance & Operations Leaders \nWhy Choose This Course?\nBlockchain can deliver real organizational value\, but many teams struggle to separate genuine business benefits from technology hype. This course explains blockchain in clear\, strategic terms so professionals can make informed and confident decisions. \nYou learn how to identify when blockchain is helpful\, when it is unnecessary\, and how to evaluate use cases objectively. The focus is on clarity\, practicality\, and business relevance—not technical deep dives. \n©2025 Mangates Tech Solutions Pvt Ltd. This content is protected by copyright law. Copy or Reproduction without permission is prohibited. \n\n\n\n\nOur Royalty Referral Program\nKnow a team or professional who could benefit from our workshops? Refer them and earn attractive royalties for every successful registration. \nFor royalty-related queries\, contact orders@mangates.com \n\n\n\n\nWant to train your entire team?\nIn-house sessions can be fully customized to your industry\, workflows\, strategic priorities\, and existing digital systems to ensure the learning directly supports real decision-making. \n📧 Contact us today to schedule a customized in-house session: corporate@mangates.com \n\n\n\n     \nhttps://youtu.be/5I2BlhXspuM?si=wHyr8uzNhPtId1I1
URL:https://chainwirenow.com/events/intro-to-blockchain-for-non-developers-1-day-course-raleigh-nc-2/
LOCATION:Regus Raleigh\, NC\, 8601 Six Forks Road Suite 400 Ph No +1 469 666 9332 Raleigh\, NC 27615
CATEGORIES:BlockChain
ATTACH;FMTTYPE=image/webp:https://chainwirenow.com/wp-content/uploads/2026/04/Blockchain-Basics-for-Non-Developers-–-1-Day-Workshop-Philadelphia-PA-ChainWireNOW-Events.webp
ORGANIZER;CN="Mangates":MAILTO:info@mangates.com
END:VEVENT
BEGIN:VEVENT
DTSTART;TZID=America/New_York:20260421T110000
DTEND;TZID=America/New_York:20260421T130000
DTSTAMP:20260421T020502
CREATED:20260413T075642Z
LAST-MODIFIED:20260413T075642Z
UID:993135-1776769200-1776776400@chainwirenow.com
SUMMARY:2.0 Core CE: 21st Century Predators – Cybersecurity & 1031 Exchanges
DESCRIPTION:Overview\nDive into 21st Century Predators in Cybersecurity and master 1031 Exchanges live and in person!\n\n\n\nJoin Us for 2.0 Core CE: 21st Century Predators \nGet ready to dive deep into the world of Cyber Security and uncover the hidden risks around Real Estate. This in-person event is perfect for anyone wanting to stay ahead in today’s digital and financial game. Don’t miss out on learning how to protect yourself from modern-day predators in both cyberspace and real estate! \nAlso\, learn the basics of a 1031 exchange. Learn how to earn two commissions or more in less than 180 days.
URL:https://chainwirenow.com/events/2-0-core-ce-21st-century-predators-cybersecurity-1031-exchanges/
LOCATION:Hampton Inn Paramus\, 625 From Road Paramus\, NJ 07652
CATEGORIES:BlockChain
ATTACH;FMTTYPE=image/webp:https://chainwirenow.com/wp-content/uploads/2026/04/2.0-Core-CE-21st-Century-Predators-–-Cybersecurity-1031-Exchanges-ChainWireNOW-Events.webp
ORGANIZER;CN="Elite Title Group LLC":MAILTO:info@elitetitlegroupllc.com
END:VEVENT
END:VCALENDAR