BEGIN:VCALENDAR
VERSION:2.0
PRODID:-//ChainWireNOW - ECPv6.14.2//NONSGML v1.0//EN
CALSCALE:GREGORIAN
METHOD:PUBLISH
X-WR-CALNAME:ChainWireNOW
X-ORIGINAL-URL:https://chainwirenow.com
X-WR-CALDESC:Events for ChainWireNOW
REFRESH-INTERVAL;VALUE=DURATION:PT1H
X-Robots-Tag:noindex
X-PUBLISHED-TTL:PT1H
BEGIN:VTIMEZONE
TZID:America/New_York
BEGIN:DAYLIGHT
TZOFFSETFROM:-0500
TZOFFSETTO:-0400
TZNAME:EDT
DTSTART:20250309T070000
END:DAYLIGHT
BEGIN:STANDARD
TZOFFSETFROM:-0400
TZOFFSETTO:-0500
TZNAME:EST
DTSTART:20251102T060000
END:STANDARD
END:VTIMEZONE
BEGIN:VEVENT
DTSTART;TZID=America/New_York:20251104T143000
DTEND;TZID=America/New_York:20251104T173000
DTSTAMP:20260419T203003
CREATED:20250902T064738Z
LAST-MODIFIED:20250902T064738Z
UID:991878-1762266600-1762277400@chainwirenow.com
SUMMARY:Real Estate in the Digital Age: Crypto Registration
DESCRIPTION:About this event\n  \n\n\n\n\n\n\nOn July 18\, 2025\, President Trump signed the GENIUS Act into law—establishing the first federal regulatory framework for U.S. stablecoins and marking a historic validation of cryptocurrency at the national level. \nHawaii recorded its first successful NFT blockchain and crypto-backed real estate sale—closing in under 24 hours and achieving above asking price on a property that had spent significant time on the market. \nThis course explores the transformative potential of blockchain in real estate transactions\, highlighting practical applications\, emerging opportunities\, and real-world solutions.
URL:https://chainwirenow.com/events/real-estate-in-the-digital-age-crypto-registration/
LOCATION:Dave & Buster’s Ala Moana\, 1450 Ala Moana Boulevard Honolulu\, HI 96814 United States
CATEGORIES:BlockChain
ATTACH;FMTTYPE=image/jpeg:https://chainwirenow.com/wp-content/uploads/2025/09/Real-Estate-in-the-Digital-Age-Crypto-Registration-ChainWireNOW-Events.jpeg
END:VEVENT
BEGIN:VEVENT
DTSTART;TZID=America/New_York:20251105T120000
DTEND;TZID=America/New_York:20251105T140000
DTSTAMP:20260419T203003
CREATED:20250317T092924Z
LAST-MODIFIED:20250317T092924Z
UID:990852-1762344000-1762351200@chainwirenow.com
SUMMARY:Tokenizing Real-World Assets with Blockchain | San Francisco
DESCRIPTION:About this event \n\n\n\n\n\n\nBlockchain Smart Solutions offers a 2-hours live workshop to explore the revolutionary world of asset tokenization. \nThis immersive session is designed for investors\, technologists\, and financial professionals eager to explore the intersection of traditional asset classes and blockchain technology. \nLearn how to fractionalize real-world assets like real estate\, fine art\, and gold into digital tokens\, making them more accessible\, liquid\, and manageable. \nParticipants will gain a comprehensive understanding of the mechanisms\, benefits\, and challenges of asset tokenization. Discover how to leverage blockchain technology to unlock new investment opportunities\, enhance portfolio diversity\, and drive financial innovation. \nWould you like a 5% discount on this training? Click here to get the discount code. \nLearning Objectives:\n\nUnderstand the Fundamentals of Asset Tokenization\nDiscover Use Cases applied to various industries.\nExplore the Benefits and Challenges.\nMaster the Tokenization Process\n\nAgenda:\n\nIntroduction to Blockchain and Tokenization\nUnderstanding Tokenization\nReal World Asset Tokenization\nBlockchain Technology\nTokenization Process\nCase Studies\nFuture Outlook\nQuestions & Answers\n\nPrerequisite:\nNo prior knowledge of blockchain or real-world asset tokenization is required. \nWho can participate:\nAnyone with an interest in blockchain technology\, real-world asset tokenization/fractionalization\, or an appreciation of technology evolution. \nBy the end of this course\, you will have:\n\nSound understanding of various aspects of this growing technology.\nCertificate of attainment.\n\nNote:\n\nSubject to Terms & Conditions. Individual pricing only\, for corporates\, please contact us via our website or drop an email at contact@blocksmartsol.com.\nIf you are looking for alternate payment options\, please contact us via our website\, or drop an email at contact@blocksmartsol.com.\nAny advice or suggestion shared during the workshop is not financial advice. You should consider your circumstances before investing. Trading digital currencies is a high-risk investment\, and due consideration should be taken before making any investment decision.\n\nFAQs\nWhat can I bring to the event? \nA curious mind. 🙂 \nHow can I contact the organiser with any questions? \nYou can contact us via our website or drop an email at contact@blocksmartsol.com \nWill I get any documents for attending this workshop? \nYes. You will receive a BSS attainment certificate after the workshop. \nIs the certificate shareable on social media (e.g. LinkedIn)? \nYes. It is a digital certificate and you can share it with your peers/colleagues via social media (e.g. LinkedIn). \nIs there any group discount? \nYes. Please reach out via our website or drop an email at contact@blocksmartsol.com \nWhat’s the refund policy? \nUpto 2 weeks before the event. Please contact us in case you need to make any changes. \nDo I have to bring my printed ticket to the event? \nNo need. It is a webinar and all you would need is a working computer and internet connection. \nIs my registration fee or ticket transferrable? \nYes. Please let us know up until 48 hours before the event. \nIs it ok if the name on my ticket or registration doesn’t match the person who attends? \nYes. Please let us know up until 48 hours before the event.
URL:https://chainwirenow.com/events/tokenizing-real-world-assets-with-blockchain-san-francisco-9/
LOCATION:San Francisco\, Online Event San Francisco\, CA 94104 United States
CATEGORIES:BlockChain
ATTACH;FMTTYPE=image/avif:https://chainwirenow.com/wp-content/uploads/2025/03/Tokenizing-Real-World-Assets-with-Blockchain-San-Francisco-ChainWireNOW-Event.avif
ORGANIZER;CN="Blockchain Smart Solutions":MAILTO:contact@blocksmartsol.com
END:VEVENT
BEGIN:VEVENT
DTSTART;TZID=America/New_York:20251111T200000
DTEND;TZID=America/New_York:20251113T190000
DTSTAMP:20260419T203003
CREATED:20250902T074254Z
LAST-MODIFIED:20250902T074254Z
UID:991906-1762891200-1763060400@chainwirenow.com
SUMMARY:Mining Disrupt Conference 2025 | Irving–Dallas\, Texas
DESCRIPTION:About this event\n\nScience & Tech • High Tech\n\n\n\n\n\n\nAs the Worlds Largest Bitcoin Mining Conference & Expo we host Thousands of Attendees and Professionals from around the world that unit yearly to meet global leaders and vendors from every corner of the globe. Our event covers a few industries and markets including Bitcoin Mining\, Energy & Bitcoin. The event is heavy B2B and has a very hands on\, networking and transacting feel similar to that or CES or SEMA for those respected industries. Check out our website: https://miningdisrupt.com
URL:https://chainwirenow.com/events/mining-disrupt-conference-2025-irving-dallas-texas-2/
LOCATION:500 W Las Colinas Blvd.\, 500 West Las Colinas Boulevard Irving\, TX 75039 United States
CATEGORIES:BlockChain
ATTACH;FMTTYPE=image/jpeg:https://chainwirenow.com/wp-content/uploads/2025/09/Mining-Disrupt-Conference-2025-Irving–Dallas-Texas-ChainWireNOW-Events.jpeg
END:VEVENT
BEGIN:VEVENT
DTSTART;TZID=America/New_York:20251121T090000
DTEND;TZID=America/New_York:20251121T110000
DTSTAMP:20260419T203003
CREATED:20250408T060141Z
LAST-MODIFIED:20250408T062049Z
UID:991074-1763715600-1763722800@chainwirenow.com
SUMMARY:Certified DeFi Associate Program | Washington\, DC
DESCRIPTION:About this event \n\n\n\n\n\n\nThe workshop presents you with an opportunity to understand the basic concepts of De-Fi (Decentralized Finance)\, and what makes it so special in today’s technologically advanced world. \nWe aim to empower you with concrete knowledge and understanding of various dynamics of DeFi and enable you to get started with the decentralized new economy and its benefits over centralized finance. \nWould you like a 5% discount on this training? Click here to get the discount code. \nLearning Objectives:\n\nUnderstand DeFi fundamentals.\nDiscover Use Cases applied to various industries.\nLearn about getting into DeFi.\nExplore a few real-world projects.\n\nAgenda:\n\nThe decentralized layer.\nSmart contracts.\nDecentralized applications (dApps).\nAdvantages and Disadvantages of dApps.\nDecentralized stablecoins.\nDecentralized lending & borrowing.\nDecentralized exchanges.\nDeFi – Now & Future.\nQuestions & Answers\n\nPrerequisite:\nNo prior knowledge of blockchain or DeFi (Decentralized Finance) is required. \nWho can participate:\nAnyone with an interest in FinTech\, Decentralized Finance\, new decentralized economy\, generation of bankless\, cryptocurrency\, and trading. \nBy the end of this course\, you will have:\n\nThorough understanding of DeFi and its applications.\nCertificate of attainment.\n\nNote:\n\nSubject to Terms & Conditions. Individual pricing only\, for corporates\, please contact us via our website or drop an email at contact@blocksmartsol.com.\nIf you are looking for alternate payment options\, please contact us via our website or drop an email at contact@blocksmartsol.com.\nAny advice or suggestion shared during the workshop is not financial advice. You should consider your circumstances before making an investment. Trading digital currencies is a high-risk investment\, and due consideration should be taken before making any investment decision.\nIt will be a live online event. The link will be shared after you register for the event.\n\nFAQs\nWhat can I bring to the event? \nA curious mind. 🙂 \nHow can I contact the organizer with any questions? \nYou can contact us via our website or drop an email at contact@blocksmartsol.com \nWill I get any documents for attending this workshop\, if I don’t want to get certified? \nYes. You will receive a BSS attainment certificate after the workshop. \nIf I want to get certified\, is there an assessment exam after the training? \nYes. You will be provided with the link to the online exam within 48 hours of completion of training. The exam will consist of mainly MCQ (Multiple Choice Questions)\, with required passing marks of 65%. \nHow much time do I have to attempt the online exam? \nYou have 2 weeks’ time to attempt the exam. \nIf I fail the exam\, can I re-take the exam with no additional charges? \nYes. you will have 3 attempts with no additional charges. \nWill I get a certificate once I pass the exam? \nYes. You will receive a BSS certification document once you pass the exam. \nIs the certificate shareable on social media (e.g. LinkedIn)? \nYes. It is a digital certificate and you can share it with your peers/colleagues via social media (e.g. LinkedIn). \nIs there any group discount? \nYes. Please reach out via our website or drop an email at contact@blocksmartsol.com \nWhat’s the refund policy? \nUpto 2 weeks before the event. Please contact us in case you need to make any changes. \nDo I have to bring my printed ticket to the event? \nNo need. It is a webinar and all you would need is a working computer and internet connection. \nIs my registration fee or ticket transferrable? \nYes. Please let us know up until 48 hours before the event. \nIs it ok if the name on my ticket or registration doesn’t match the person who attends? \nYes. Please let us know up until 48 hours before the event.
URL:https://chainwirenow.com/events/certified-defi-associate-program-washington-dc-8/
LOCATION:Washington DC\, Online Event Washington\, DC 20024 United States
CATEGORIES:BlockChain
ATTACH;FMTTYPE=image/avif:https://chainwirenow.com/wp-content/uploads/2025/04/Certified-DeFi-Associate-Program-Washington-DC-ChainWireNOW-Events.avif
ORGANIZER;CN="Blockchain Smart Solutions":MAILTO:contact@blocksmartsol.com
END:VEVENT
END:VCALENDAR