BEGIN:VCALENDAR
VERSION:2.0
PRODID:-//ChainWireNOW - ECPv6.14.2//NONSGML v1.0//EN
CALSCALE:GREGORIAN
METHOD:PUBLISH
X-WR-CALNAME:ChainWireNOW
X-ORIGINAL-URL:https://chainwirenow.com
X-WR-CALDESC:Events for ChainWireNOW
REFRESH-INTERVAL;VALUE=DURATION:PT1H
X-Robots-Tag:noindex
X-PUBLISHED-TTL:PT1H
BEGIN:VTIMEZONE
TZID:America/New_York
BEGIN:DAYLIGHT
TZOFFSETFROM:-0500
TZOFFSETTO:-0400
TZNAME:EDT
DTSTART:20250309T070000
END:DAYLIGHT
BEGIN:STANDARD
TZOFFSETFROM:-0400
TZOFFSETTO:-0500
TZNAME:EST
DTSTART:20251102T060000
END:STANDARD
END:VTIMEZONE
BEGIN:VEVENT
DTSTART;TZID=America/New_York:20251016T100000
DTEND;TZID=America/New_York:20251016T170000
DTSTAMP:20260420T035858
CREATED:20250621T064642Z
LAST-MODIFIED:20250621T064642Z
UID:991423-1760608800-1760634000@chainwirenow.com
SUMMARY:2025 Wyoming Global Technology Summit: Innovation\, Blockchain\, and the Future of Tech
DESCRIPTION:About this event\n\n\nThe event lasts 7 hours\n\n\n\n\n\n\nThe Wyoming Global Technology Summit (WGTS) is an event held every fall in Jackson Hole\, Wyoming. The 2025 summit will feature government leaders\, high-tech entrepreneurs\, financiers and futurists on the topics of Angel Investing\, Agriculture Technology\, Artificial Intelligence\, Blockchain\, Cryptocurrency\, Economic Empowerment\, Healthcare\, Quantum Computing\, Venture Capital and Nuclear Power Technology. Our event helps energise solutions to old challenges by leveraging new technologies to produce quantifiable outcomes for rural populations.
URL:https://chainwirenow.com/events/2025-wyoming-global-technology-summit-innovation-blockchain-and-the-future-of-tech/
LOCATION:Teton Village\, _ Teton Village\, WY 83025 United States
CATEGORIES:BlockChain
ATTACH;FMTTYPE=image/avif:https://chainwirenow.com/wp-content/uploads/2025/06/2025-Wyoming-Global-Technology-Summit-ChainWireNOW-Events.avif
ORGANIZER;CN="The Jackson Hole Technology Partnership":MAILTO:info@jacksonholetechpartnership.org
END:VEVENT
END:VCALENDAR