BEGIN:VCALENDAR
VERSION:2.0
PRODID:-//ChainWireNOW - ECPv6.14.2//NONSGML v1.0//EN
CALSCALE:GREGORIAN
METHOD:PUBLISH
X-WR-CALNAME:ChainWireNOW
X-ORIGINAL-URL:https://chainwirenow.com
X-WR-CALDESC:Events for ChainWireNOW
REFRESH-INTERVAL;VALUE=DURATION:PT1H
X-Robots-Tag:noindex
X-PUBLISHED-TTL:PT1H
BEGIN:VTIMEZONE
TZID:America/New_York
BEGIN:DAYLIGHT
TZOFFSETFROM:-0500
TZOFFSETTO:-0400
TZNAME:EDT
DTSTART:20250309T070000
END:DAYLIGHT
BEGIN:STANDARD
TZOFFSETFROM:-0400
TZOFFSETTO:-0500
TZNAME:EST
DTSTART:20251102T060000
END:STANDARD
END:VTIMEZONE
BEGIN:VEVENT
DTSTART;TZID=America/New_York:20251017T000000
DTEND;TZID=America/New_York:20251018T000000
DTSTAMP:20260420T002202
CREATED:20250902T094825Z
LAST-MODIFIED:20250902T095050Z
UID:991938-1760659200-1760745600@chainwirenow.com
SUMMARY:BGIN: Block 13
DESCRIPTION:About this event\n\nBusiness • Startups\n\n\n\n\n\n\nShape the future of global blockchain governance at BGIN Block 13\, where inclusive multi-stakeholder action meets international standard-setting. \nWhat to Expect \nBGIN: Founded for Global Standardization \nBorn from the 2019 G20 Osaka Communiqué\, BGIN provides a unique\, open forum for a broad range of voices—from regulators to technologists and civic imaginations—to converge in crafting actionable blockchain governance standards. It holds a Category A Liaison to ISO/TC 307 and contributes to procurement standards under WTO/TBT frameworks\, driving global alignment and interoperability. \nBlock 13: Standardization in Action \nMore than a conference—Block 13 is an integral part of the standards development process. Over three days\, participants will: \n\nReview\, edit\, and finalize existing standard documents\nApprove new standardization proposals\nInitiate discussions on emerging topics such as blockchain forensics\, agent frameworks\, wallet governance\, stablecoin regulation\, and cybersecurity information sharing\n\nKey Projects at the Event \nHighlighted ongoing initiatives include: \n\nWallet Governance & Key Management – Crafting policy frameworks for secure and compliant wallet systems\nAccountable Wallet – Defining standard mechanisms enabling transaction legitimacy while preserving privacy\nAgent Standards & Frameworks – Building interoperability for blockchain agents\, reputation systems\, and agentic competition\nStablecoin Policy Priorities – Analysis of past\, present\, and future regulatory landscapes for stablecoins\nCybersecurity Information Sharing Framework – Enhancing collaborative security across blockchain networks\n\nWho Should Attend \n\nRegulators & Policymakers – Influence real-world governance frameworks\nTechnologists & Standards Developers – Collaborate on developing robust technical benchmarks\nIndustry Leaders & Practitioners – Understand compliance trends and contribute to praxis\nAcademics\, Researchers & Students – Engage in frontier governance discourse and network with global experts\n\nWhy It Matters \nAt BGIN Block 13\, your participation matters. This isn’t just about absorbing knowledge—it’s about contributing directly to the development of international standards that guide the blockchain ecosystem. Whether it’s documents that shape ISO frameworks or mechanisms influencing global policy\, this event is where decisions become tomorrow’s infrastructure.
URL:https://chainwirenow.com/events/bgin-block-13/
LOCATION:Georgetown University\, 3700 O Street Northwest Washington\, DC 20057 United States
CATEGORIES:BlockChain
ATTACH;FMTTYPE=image/jpeg:https://chainwirenow.com/wp-content/uploads/2025/09/BGIN-Block-13-ChainWireNOW-Events.jpeg
ORGANIZER;CN="Blockchain Governance Initiative Network (BGIN)":MAILTO:bgin_admin@bg2x.org
END:VEVENT
BEGIN:VEVENT
DTSTART;TZID=America/New_York:20251017T090000
DTEND;TZID=America/New_York:20251017T110000
DTSTAMP:20260420T002202
CREATED:20250408T055854Z
LAST-MODIFIED:20250408T061137Z
UID:991072-1760691600-1760698800@chainwirenow.com
SUMMARY:Certified DeFi Associate Program | Washington\, DC
DESCRIPTION:About this event \n\n\n\n\n\n\nThe workshop presents you with an opportunity to understand the basic concepts of De-Fi (Decentralized Finance)\, and what makes it so special in today’s technologically advanced world. \nWe aim to empower you with concrete knowledge and understanding of various dynamics of DeFi and enable you to get started with the decentralized new economy and its benefits over centralized finance. \nWould you like a 5% discount on this training? Click here to get the discount code. \nLearning Objectives:\n\nUnderstand DeFi fundamentals.\nDiscover Use Cases applied to various industries.\nLearn about getting into DeFi.\nExplore a few real-world projects.\n\nAgenda:\n\nThe decentralized layer.\nSmart contracts.\nDecentralized applications (dApps).\nAdvantages and Disadvantages of dApps.\nDecentralized stablecoins.\nDecentralized lending & borrowing.\nDecentralized exchanges.\nDeFi – Now & Future.\nQuestions & Answers\n\nPrerequisite:\nNo prior knowledge of blockchain or DeFi (Decentralized Finance) is required. \nWho can participate:\nAnyone with an interest in FinTech\, Decentralized Finance\, new decentralized economy\, generation of bankless\, cryptocurrency\, and trading. \nBy the end of this course\, you will have:\n\nThorough understanding of DeFi and its applications.\nCertificate of attainment.\n\nNote:\n\nSubject to Terms & Conditions. Individual pricing only\, for corporates\, please contact us via our website or drop an email at contact@blocksmartsol.com.\nIf you are looking for alternate payment options\, please contact us via our website or drop an email at contact@blocksmartsol.com.\nAny advice or suggestion shared during the workshop is not financial advice. You should consider your circumstances before making an investment. Trading digital currencies is a high-risk investment\, and due consideration should be taken before making any investment decision.\nIt will be a live online event. The link will be shared after you register for the event.\n\nFAQs\nWhat can I bring to the event? \nA curious mind. 🙂 \nHow can I contact the organizer with any questions? \nYou can contact us via our website or drop an email at contact@blocksmartsol.com \nWill I get any documents for attending this workshop\, if I don’t want to get certified? \nYes. You will receive a BSS attainment certificate after the workshop. \nIf I want to get certified\, is there an assessment exam after the training? \nYes. You will be provided with the link to the online exam within 48 hours of completion of training. The exam will consist of mainly MCQ (Multiple Choice Questions)\, with required passing marks of 65%. \nHow much time do I have to attempt the online exam? \nYou have 2 weeks’ time to attempt the exam. \nIf I fail the exam\, can I re-take the exam with no additional charges? \nYes. you will have 3 attempts with no additional charges. \nWill I get a certificate once I pass the exam? \nYes. You will receive a BSS certification document once you pass the exam. \nIs the certificate shareable on social media (e.g. LinkedIn)? \nYes. It is a digital certificate and you can share it with your peers/colleagues via social media (e.g. LinkedIn). \nIs there any group discount? \nYes. Please reach out via our website or drop an email at contact@blocksmartsol.com \nWhat’s the refund policy? \nUpto 2 weeks before the event. Please contact us in case you need to make any changes. \nDo I have to bring my printed ticket to the event? \nNo need. It is a webinar and all you would need is a working computer and internet connection. \nIs my registration fee or ticket transferrable? \nYes. Please let us know up until 48 hours before the event. \nIs it ok if the name on my ticket or registration doesn’t match the person who attends? \nYes. Please let us know up until 48 hours before the event.
URL:https://chainwirenow.com/events/certified-defi-associate-program-washington-dc-7/
LOCATION:Washington DC\, Online Event Washington\, DC 20024 United States
CATEGORIES:BlockChain
ATTACH;FMTTYPE=image/avif:https://chainwirenow.com/wp-content/uploads/2025/04/Certified-DeFi-Associate-Program-Washington-DC-ChainWireNOW-Events.avif
ORGANIZER;CN="Blockchain Smart Solutions":MAILTO:contact@blocksmartsol.com
END:VEVENT
END:VCALENDAR