BEGIN:VCALENDAR
VERSION:2.0
PRODID:-//ChainWireNOW - ECPv6.14.2//NONSGML v1.0//EN
CALSCALE:GREGORIAN
METHOD:PUBLISH
X-ORIGINAL-URL:https://chainwirenow.com
X-WR-CALDESC:Events for ChainWireNOW
REFRESH-INTERVAL;VALUE=DURATION:PT1H
X-Robots-Tag:noindex
X-PUBLISHED-TTL:PT1H
BEGIN:VTIMEZONE
TZID:America/New_York
BEGIN:DAYLIGHT
TZOFFSETFROM:-0500
TZOFFSETTO:-0400
TZNAME:EDT
DTSTART:20250309T070000
END:DAYLIGHT
BEGIN:STANDARD
TZOFFSETFROM:-0400
TZOFFSETTO:-0500
TZNAME:EST
DTSTART:20251102T060000
END:STANDARD
END:VTIMEZONE
BEGIN:VEVENT
DTSTART;TZID=America/New_York:20251104T143000
DTEND;TZID=America/New_York:20251104T173000
DTSTAMP:20260419T223025
CREATED:20250902T064738Z
LAST-MODIFIED:20250902T064738Z
UID:991878-1762266600-1762277400@chainwirenow.com
SUMMARY:Real Estate in the Digital Age: Crypto Registration
DESCRIPTION:About this event\n  \n\n\n\n\n\n\nOn July 18\, 2025\, President Trump signed the GENIUS Act into law—establishing the first federal regulatory framework for U.S. stablecoins and marking a historic validation of cryptocurrency at the national level. \nHawaii recorded its first successful NFT blockchain and crypto-backed real estate sale—closing in under 24 hours and achieving above asking price on a property that had spent significant time on the market. \nThis course explores the transformative potential of blockchain in real estate transactions\, highlighting practical applications\, emerging opportunities\, and real-world solutions.
URL:https://chainwirenow.com/events/real-estate-in-the-digital-age-crypto-registration/
LOCATION:Dave & Buster’s Ala Moana\, 1450 Ala Moana Boulevard Honolulu\, HI 96814 United States
CATEGORIES:BlockChain
ATTACH;FMTTYPE=image/jpeg:https://chainwirenow.com/wp-content/uploads/2025/09/Real-Estate-in-the-Digital-Age-Crypto-Registration-ChainWireNOW-Events.jpeg
END:VEVENT
END:VCALENDAR