BEGIN:VCALENDAR
VERSION:2.0
PRODID:-//ChainWireNOW - ECPv6.14.2//NONSGML v1.0//EN
CALSCALE:GREGORIAN
METHOD:PUBLISH
X-ORIGINAL-URL:https://chainwirenow.com
X-WR-CALDESC:Events for ChainWireNOW
REFRESH-INTERVAL;VALUE=DURATION:PT1H
X-Robots-Tag:noindex
X-PUBLISHED-TTL:PT1H
BEGIN:VTIMEZONE
TZID:America/New_York
BEGIN:DAYLIGHT
TZOFFSETFROM:-0500
TZOFFSETTO:-0400
TZNAME:EDT
DTSTART:20250309T070000
END:DAYLIGHT
BEGIN:STANDARD
TZOFFSETFROM:-0400
TZOFFSETTO:-0500
TZNAME:EST
DTSTART:20251102T060000
END:STANDARD
END:VTIMEZONE
BEGIN:VEVENT
DTSTART;TZID=America/New_York:20251212T190000
DTEND;TZID=America/New_York:20251212T220000
DTSTAMP:20260419T223126
CREATED:20251202T114817Z
LAST-MODIFIED:20251202T114817Z
UID:992119-1765566000-1765576800@chainwirenow.com
SUMMARY:Crypto Networking Conference & Holiday Toy Drive | Fort Lauderdale
DESCRIPTION:Overview\n\n\n\n\n\nSPECIAL 6 YEAR ANNIVERSARY EVENT \n\n\n\nCRYPTO CONNECT 6 YEAR ANNIVERSARY EVENT \nNETWORKING CONFERENCE & HOLIDAY TOY DRIVE \nBRING AN UNWRAPPED TOY \nBENEFITTING CHILDREN OF THE JOE DIMAGGIO CHILDREN’S HOSPITAL \nJOIN US FOR A CRYPTO\, BLOCKCHAIN\, TECHNOLOGY\, & REAL ESTATE NETWORKING MEETUP. \nWE WILL MEET TO SHARE KNOWLEDGE\, INFORMATION\, & CONNECT WITH EACH OTHER\, BUILDING AN OPEN & FRIENDLY COMMUNITY. \nLEARN INCREDIBLE KNOWLEDGE ON CRYPTOCURRENCY\, BLOCKCHAIN\, ARTIFICIAL INTELLIGENCE\, NFTS\, INVESTING\, MINING\, METAVERSE\, TOKENIZATION\, REAL ESTATE\, DEFI\, & MORE. \nTHIS WILL BE A VERY SPECIAL 6 YEAR ANNIVERSARY EVENT. THIS IS THE VERY FIRST VENUE WHERE THIS INCREDIBLE JOURNEY ALL STARTED! WE CAN NOT THANK EVERYONE ENOUGH FOR MAKING THIS ALL POSSIBLE & HOPE` YOU ALL CAN ATTEND. \nABOUT CRYPTO CONNECT :\nWe are focused on creating a hands-on interactive environment for attendees where they can learn\, educate\, network & have an unforgettable experience at our conference in Fort Lauderdale. The vast knowledge & education provided by our team\, will instill everyone with a better understanding of cryptocurrency\, blockchain technology\, virtual real estate\, artificial intelligence\, Web 3\, NFTs\, the Metaverse\, & More. \nCrypto Connect’s objective is to connect all aspects of people\, businesses\, brands\, teams\, & investors in the crypto / tech world together. As more education & knowledge is provided\, our community connects\, grows & adopts for what the future holds. \nCrypto Connect has been hosting and creating next level events from 2020 – 2025 in this field. We have established such a great community together & continue to be stronger as we keep uniting as one. \n\nEvent Includes : \n*Crypto Networking \n*Raffles & Giveaways \n*Live Entertainment & Vendors \n*Complimentary Cocktail ( VIP TICKET ONLY ) \n*Special Guest Appearances \n(General Admission & VIP All Access 🎟) \n  \nAffiliated Partners : \nSMR Entertainment \nCrypto Connect Expo \nNFT Palm Beach \nItem Banc \nNFT Energy Drinks \nFOR MORE INFORMATION OR SPONSORSHIP OPPORTUNITES : 561-929-4533 \n** REMINDER TO BRING AN UNWRAPPED TOY ** \nJOIN US FOR FORT LAUDERDALE SANTACON 2025 : \nSANTACONFTL.EVENTBRITE.COM
URL:https://chainwirenow.com/events/crypto-networking-conference-holiday-toy-drive-fort-lauderdale/
LOCATION:The Den Sports Bar and Lounge\, 201 Southwest 2nd Street Fort Lauderdale\, FL 33301 United States
CATEGORIES:BlockChain
ATTACH;FMTTYPE=image/jpeg:https://chainwirenow.com/wp-content/uploads/2025/12/Crypto-Networking-Conference-Holiday-Toy-Drive-Fort-Lauderdale-ChainWireNOW-Event.jpg
END:VEVENT
END:VCALENDAR