BEGIN:VCALENDAR
VERSION:2.0
PRODID:-//ChainWireNOW - ECPv6.14.2//NONSGML v1.0//EN
CALSCALE:GREGORIAN
METHOD:PUBLISH
X-WR-CALNAME:ChainWireNOW
X-ORIGINAL-URL:https://chainwirenow.com
X-WR-CALDESC:Events for ChainWireNOW
REFRESH-INTERVAL;VALUE=DURATION:PT1H
X-Robots-Tag:noindex
X-PUBLISHED-TTL:PT1H
BEGIN:VTIMEZONE
TZID:America/New_York
BEGIN:DAYLIGHT
TZOFFSETFROM:-0500
TZOFFSETTO:-0400
TZNAME:EDT
DTSTART:20250309T070000
END:DAYLIGHT
BEGIN:STANDARD
TZOFFSETFROM:-0400
TZOFFSETTO:-0500
TZNAME:EST
DTSTART:20251102T060000
END:STANDARD
END:VTIMEZONE
BEGIN:VEVENT
DTSTART;TZID=America/New_York:20251213T080000
DTEND;TZID=America/New_York:20251213T080000
DTSTAMP:20260419T203612
CREATED:20251213T164353Z
LAST-MODIFIED:20251213T164353Z
UID:992213-1765612800-1765612800@chainwirenow.com
SUMMARY:Blockchain & Cryptocurrency Training Series for Beginners
DESCRIPTION:Overview\n\n\n\n\n\nNFT – ART\n\n\n\nStep into the future with Mig & Tan LLC’s exclusive blockchain and cryptocurrency education series — designed for adults and beginners who want to truly understand digital money\, NFTs\, DeFi\, and Web3. Through engaging lessons and real-world examples\, you’ll gain the confidence to invest\, trade\, and explore blockchain technology safely and smartly. \nWhat You’ll Learn\nEach session is designed to build your knowledge step by step.\nYou’ll learn: \n\nHow blockchain technology works and why it’s changing the world\nWhat cryptocurrency really is and how to invest using fiat money\nHow to buy and trade safely on Coinbase\nWhat NFTs are and how to create or sell them\nHow DeFi and Web3 are shaping the next digital era\nSmart contracts\, crypto safety\, and the future of decentralization\n\nRegistration & Tickets \nSpots are limited to keep the training interactive.\nEarly registration is recommended! \n✅ Step-by-Step Guide to Using Crypto Apps Safely\n✅ Study materials and printable guides provided\n✅ No prior crypto experience required \n📍 Location\nMig & Tan LLC Training Center \n155 Chandler Street\, Suite #6\, 14207\nBuffalo\, New York \n📞 Contact \n📧 migandtan@gmail.com \n🌐 www.migandtan.com\n📱 +1(716)2478208
URL:https://chainwirenow.com/events/blockchain-cryptocurrency-training-series-for-beginners/
LOCATION:Mig & Tan LLC Training Center\, 155 Chandler Street\, Suite #6\, 14207 Buffalo\, New York
CATEGORIES:BlockChain
ATTACH;FMTTYPE=image/jpeg:https://chainwirenow.com/wp-content/uploads/2025/12/Blockchain-Cryptocurrency-Training-Series-for-Beginners-ChainWireNOW-Events.jpg
ORGANIZER;CN="Mig & Tan LLC":MAILTO:migandtan@gmail.com
END:VEVENT
BEGIN:VEVENT
DTSTART;TZID=America/New_York:20251213T150000
DTEND;TZID=America/New_York:20251213T180000
DTSTAMP:20260419T203612
CREATED:20251213T184727Z
LAST-MODIFIED:20251213T184727Z
UID:992246-1765638000-1765648800@chainwirenow.com
SUMMARY:2025 MNblockchain Community Holiday Party!
DESCRIPTION:Overview\n\n\n\n\n\nOur annual potluck event with plenty of eats\, activities\, giveaways\, and good times!\n\n\n\n🥳 ‘Tis the Season! 🎅 \nCome on out December 13 for this annual gathering—this time on a Saturday afternoon! \nAlso new for 2025\, we’re partnered with Stand With Crypto as well as our sister organization in Greater Minnesota\, MN Crypto Council. So\, we’re holding this year’s event in the northwest metro\, hosted at the dance studio Just For Kix (partner company with Just for Krypto\, Minnesota’s largest BTC miner). \nYet same as in previous years\, this will be another abundant potluck event with plenty of eats\, activities\, giveaways\, and good times with old faces and new. 🎁🕺🎄 \n***DOOR PRIZES • NFT ART GIVE-AWAY • GAMES • PHOTOBOOTH • PRESENTATION*** \n▶️ Following Thanksgiving🦃\, we hope to continue the holiday festivities with you as we celebrate the season\, a terrific 2025\, and an exciting 2026 to come! \nIt’s our 3rd Annual Holiday Party\, Saturday afternoon\, December 13 in Medina. 🎉 \nQuestions? Offers for prizes or activities? Email: connect@mnblockchain.org
URL:https://chainwirenow.com/events/2025-mnblockchain-community-holiday-party/
LOCATION:Just For Kix\, 50 Westfalen Trail Medina\, MN 55340 United States
CATEGORIES:BlockChain
ATTACH;FMTTYPE=image/jpeg:https://chainwirenow.com/wp-content/uploads/2025/12/2025-MNblockchain-Community-Holiday-Party-ChainWireNOW-Events.jpg
ORGANIZER;CN="Minnesota Blockchain":MAILTO:connect@mnblockchain.org
END:VEVENT
END:VCALENDAR