BEGIN:VCALENDAR
VERSION:2.0
PRODID:-//ChainWireNOW - ECPv6.14.2//NONSGML v1.0//EN
CALSCALE:GREGORIAN
METHOD:PUBLISH
X-WR-CALNAME:ChainWireNOW
X-ORIGINAL-URL:https://chainwirenow.com
X-WR-CALDESC:Events for ChainWireNOW
REFRESH-INTERVAL;VALUE=DURATION:PT1H
X-Robots-Tag:noindex
X-PUBLISHED-TTL:PT1H
BEGIN:VTIMEZONE
TZID:America/New_York
BEGIN:DAYLIGHT
TZOFFSETFROM:-0500
TZOFFSETTO:-0400
TZNAME:EDT
DTSTART:20250309T070000
END:DAYLIGHT
BEGIN:STANDARD
TZOFFSETFROM:-0400
TZOFFSETTO:-0500
TZNAME:EST
DTSTART:20251102T060000
END:STANDARD
END:VTIMEZONE
BEGIN:VEVENT
DTSTART;TZID=America/New_York:20251217T210000
DTEND;TZID=America/New_York:20251217T230000
DTSTAMP:20260419T203214
CREATED:20251202T121154Z
LAST-MODIFIED:20251202T121154Z
UID:992130-1766005200-1766012400@chainwirenow.com
SUMMARY:TexitCoin – Learn & Earn!
DESCRIPTION:Overview\n\n\n\n\n\nGet ready to dive into the world of cryptocurrency with TexitCoin\, the largest crowdfunded cryptocurrency in history!\n\n\n\nCome join us at Hendo’s Barrel House in Temecula\, and while you enjoy dinner on us\, learn about TexitCoin! Hear about the latest updates\, future plans\, and how you can get involved in this exciting project. Even if you have little or no experience with cryptocurrency\, come learn about TexitCoin and how to own a share in a crypto mining unit which produces TexitCoins everyday. Come learn about the solid vision and mission of this fast growing TexitCoin community. RSVP\, bring a friend and see you there! \nThis is no longer a small project. it’s a Movement!
URL:https://chainwirenow.com/events/texitcoin-learn-earn/
LOCATION:Hendo’s Barrel House – Temecula Restaurant\, Brewery\, Distillery\, 27901 Jefferson Avenue #suite 100 Temecula\, CA 92590 United States
CATEGORIES:BlockChain
ATTACH;FMTTYPE=image/jpeg:https://chainwirenow.com/wp-content/uploads/2025/12/TexitCoin-–-Learn-Earn-ChainWireNOW-Events.jpg
ORGANIZER;CN="Frank Suwalski":MAILTO:mediahub@texitcoin.org
END:VEVENT
END:VCALENDAR