BEGIN:VCALENDAR
VERSION:2.0
PRODID:-//ChainWireNOW - ECPv6.14.2//NONSGML v1.0//EN
CALSCALE:GREGORIAN
METHOD:PUBLISH
X-ORIGINAL-URL:https://chainwirenow.com
X-WR-CALDESC:Events for ChainWireNOW
REFRESH-INTERVAL;VALUE=DURATION:PT1H
X-Robots-Tag:noindex
X-PUBLISHED-TTL:PT1H
BEGIN:VTIMEZONE
TZID:America/New_York
BEGIN:DAYLIGHT
TZOFFSETFROM:-0500
TZOFFSETTO:-0400
TZNAME:EDT
DTSTART:20250309T070000
END:DAYLIGHT
BEGIN:STANDARD
TZOFFSETFROM:-0400
TZOFFSETTO:-0500
TZNAME:EST
DTSTART:20251102T060000
END:STANDARD
END:VTIMEZONE
BEGIN:VEVENT
DTSTART;TZID=America/New_York:20251218T120000
DTEND;TZID=America/New_York:20251218T120000
DTSTAMP:20260419T203731
CREATED:20251213T191151Z
LAST-MODIFIED:20251213T191151Z
UID:992251-1766059200-1766059200@chainwirenow.com
SUMMARY:NYC Blockchain Network @ Trump Tower
DESCRIPTION:Overview\n\n\n\n\n\nThe monthly meetup for the NYC crypto and blockchain community. \n\n\n\nWe hold regular 3rd Thursday monthly Blockchain networking events in New York City to support idea generation and connections. These events help to foster a strong ecosystem for blockchain innovation in New York City.\nCome as you are\, if you are part of the growing blockchain sector or are simply interested or curious let’s unfold this unlimited potential together. On average 150+ passionate people just like you attend the event.\nThis months event features Web3todaylive x NYC Blockchain Network @ Trump Tower \nRSVP: https://luma.com/0s5eofkr \nMeet and network with builders and founders in the web3 ecosystem as we discuss RWA and Stablecoins – Space is extremely limited here.\n​Community Partner NYC Blockchain Network.\n​\nExciting Panel Speakers\n​Jeet Raut – Co-Founder NY Blockchain Council\n​Andrew Moskowitz – Business Dev Lead Streamex Gold backed stable coins\n​Wasif Rahman – Community Manager Chainlink\n​Meina Zhou – CEO of Sproutfi xyz\n​FREE POAP NFT For attending \n​Event is sponsored by DarGlobal\n​Food / Drinks Provided by Titis empanadas\n​Hosted by David Fung your friendly web3host Founder of web3todaylive – Media and Events producer \n*Please note that locations can change and you will be notified by email in such event. \n\nWHY THIS GROUP?\nRegular monthly meetings help to support relationship building\, really getting to know people\, and creating a lasting network effect in our community.\nConnections turn into relationships\, ideas into innovations\, and collaborations into transformative impact. This isn’t a one-time conference or event. Come as you are and experience passionate people\, purposeful introductions\, and unexpected opportunities.\nBlockchain and Cryptocurrencies are now one of the most talked-about innovations with the promise of disruptive innovations and new ways decentralization can help business\, people\, and society. To reach this potential we must collaborate to form a more equitable future. \nCONNECT \nWeb: NYCblockchainNetwork.com\nTwitter: @NycBlockckchainN1 \n \nVideo Filming Disclaimer: I understand that this event may be filmed\, and that NYC Blockchain may use video\, audio\, and still photographs from the event (the “Materials”) for promotional purposes. By registering for or attending the event\, I consent to being recorded and to NYC Blockchain’s unlimited and perpetual use\, without fee\, of my name\, image\, likeness\, voice\, and contributions that might be embodied in the Materials for NYC Blockchain’s promotional purposes. I waive any right that I may have to review or approve any versions of the Materials\, and I hereby release NYC Blockchain from any and all claims for any violation of any personal or proprietary right I may have in connection with its use of the Materials.
URL:https://chainwirenow.com/events/nyc-blockchain-network-trump-tower/
LOCATION:Trump Tower\, 725 5th Avenue New York\, NY 10022 United States
CATEGORIES:BlockChain
ATTACH;FMTTYPE=image/jpeg:https://chainwirenow.com/wp-content/uploads/2025/12/NYC-Blockchain-Network-@-Trump-Tower-ChainWireNOW-Events.jpg
END:VEVENT
BEGIN:VEVENT
DTSTART;TZID=America/New_York:20251218T190000
DTEND;TZID=America/New_York:20251218T210000
DTSTAMP:20260419T203731
CREATED:20251213T195352Z
LAST-MODIFIED:20251213T195352Z
UID:992275-1766084400-1766091600@chainwirenow.com
SUMMARY:Crypto A to Z: A Fireside Chat with Larry D. Moore
DESCRIPTION:Overview\n\n\n\n\n\nJoin us in person for a chill fireside chat about all things crypto with Larry D. Moore!\n\n\n\nCrypto A to Z: A Fireside Chat with Larry D. Moore \nJoin us on Thursday\, December 18th from 6–8pm for an engaging fireside chat with author\, educator\, and tech strategist Larry D. Moore\, as he breaks down the fast-evolving world of cryptocurrency through the lens of his new book\, Crypto A to Z. \nIn Crypto A to Z\, Larry demystifies the jargon\, hype\, and headlines surrounding digital currency. This accessible guide offers clear\, beginner-friendly explanations of core concepts—blockchain\, wallets\, mining\, NFTs\, security\, regulation\, and more—while also exploring the cultural and economic forces shaping the future of digital money. Whether you’re crypto-curious or ready to deepen your understanding\, this book helps you gain real clarity in a world full of noise. \nDuring this intimate conversation\, Larry will discuss:\n🔥 What inspired him to write Crypto A to Z\n🔥 How crypto impacts everyday people\n🔥 The opportunities—and myths—surrounding digital assets\n🔥 Where he believes the technology is heading\n🔥 How Black and marginalized communities can participate and protect themselves in this emerging economy \nA Q&A and book signing will follow. \n⭐ About Larry D. Moore:Larry D. Moore is a Chicago-based author\, digital strategist\, and proud Howard University graduate with over a decade of experience helping organizations integrate cutting-edge technology into real-world solutions. With a professional background in cybersecurity\, financial literacy education\, and community tech advocacy\, Larry has dedicated his career to making complex digital concepts understandable and accessible—especially for underserved communities. His work sits at the intersection of technology\, equity\, and empowerment\, and Crypto A to Z is a natural extension of his mission to ensure everyone has the tools to navigate the future of money.
URL:https://chainwirenow.com/events/crypto-a-to-z-a-fireside-chat-with-larry-d-moore/
LOCATION:Da Book Joint\, 6900 South Stony Island Avenue Chicago\, IL 60649 United States
CATEGORIES:BlockChain
ATTACH;FMTTYPE=image/jpeg:https://chainwirenow.com/wp-content/uploads/2025/12/Crypto-A-to-Z-A-Fireside-Chat-with-Larry-D.-Moore-ChainWireNOW-Events.jpg
END:VEVENT
END:VCALENDAR