BEGIN:VCALENDAR
VERSION:2.0
PRODID:-//ChainWireNOW - ECPv6.14.2//NONSGML v1.0//EN
CALSCALE:GREGORIAN
METHOD:PUBLISH
X-WR-CALNAME:ChainWireNOW
X-ORIGINAL-URL:https://chainwirenow.com
X-WR-CALDESC:Events for ChainWireNOW
REFRESH-INTERVAL;VALUE=DURATION:PT1H
X-Robots-Tag:noindex
X-PUBLISHED-TTL:PT1H
BEGIN:VTIMEZONE
TZID:America/New_York
BEGIN:DAYLIGHT
TZOFFSETFROM:-0500
TZOFFSETTO:-0400
TZNAME:EDT
DTSTART:20250309T070000
END:DAYLIGHT
BEGIN:STANDARD
TZOFFSETFROM:-0400
TZOFFSETTO:-0500
TZNAME:EST
DTSTART:20251102T060000
END:STANDARD
END:VTIMEZONE
BEGIN:VEVENT
DTSTART;TZID=America/New_York:20251226T040000
DTEND;TZID=America/New_York:20251226T120000
DTSTAMP:20260419T203318
CREATED:20251213T184146Z
LAST-MODIFIED:20251213T184146Z
UID:992243-1766721600-1766750400@chainwirenow.com
SUMMARY:EXIN Blockchain Essentials – 1-Day Training | Fishers\, IN
DESCRIPTION:Overview\n\n\n\n\n\nGet ready to dive deep into the world of blockchain essentials – it’s going to be a day filled with learning and networking!
URL:https://chainwirenow.com/events/exin-blockchain-essentials-1-day-training-fishers-in-2/
LOCATION:Regus – Indianapolis – Fishers\, 10475 Crosspoint Blvd. Suite 250 PH: +1 469 666 9332 Indianapolis\, IN 46256 United States
CATEGORIES:BlockChain
ATTACH;FMTTYPE=image/jpeg:https://chainwirenow.com/wp-content/uploads/2025/12/EXIN-Blockchain-Essentials-–-1-Day-Training-Fishers-IN-ChainWireNOW-Events.jpg
ORGANIZER;CN="Mount Skills":MAILTO:eventbrite@mountskills.com
END:VEVENT
END:VCALENDAR