BEGIN:VCALENDAR
VERSION:2.0
PRODID:-//ChainWireNOW - ECPv6.14.2//NONSGML v1.0//EN
CALSCALE:GREGORIAN
METHOD:PUBLISH
X-WR-CALNAME:ChainWireNOW
X-ORIGINAL-URL:https://chainwirenow.com
X-WR-CALDESC:Events for ChainWireNOW
REFRESH-INTERVAL;VALUE=DURATION:PT1H
X-Robots-Tag:noindex
X-PUBLISHED-TTL:PT1H
BEGIN:VTIMEZONE
TZID:America/New_York
BEGIN:DAYLIGHT
TZOFFSETFROM:-0500
TZOFFSETTO:-0400
TZNAME:EDT
DTSTART:20260308T070000
END:DAYLIGHT
BEGIN:STANDARD
TZOFFSETFROM:-0400
TZOFFSETTO:-0500
TZNAME:EST
DTSTART:20261101T060000
END:STANDARD
END:VTIMEZONE
BEGIN:VEVENT
DTSTART;TZID=America/New_York:20260206T040000
DTEND;TZID=America/New_York:20260206T060000
DTSTAMP:20260419T171222
CREATED:20260127T064529Z
LAST-MODIFIED:20260127T064529Z
UID:992784-1770350400-1770357600@chainwirenow.com
SUMMARY:Metaverse 101 | Washington\, DC
DESCRIPTION:Overview\n\n\n\n\n\n2-hours live online training to introduce you to Metaverse!
URL:https://chainwirenow.com/events/metaverse-101-washington-dc-2/
LOCATION:Washington DC\, Online Event Washington\, DC 20024 United States
CATEGORIES:BlockChain
ATTACH;FMTTYPE=image/jpeg:https://chainwirenow.com/wp-content/uploads/2026/01/Metaverse-101-Washington-DC-ChainWireNOW-Events-2.jpg
ORGANIZER;CN="Blockchain Smart Solutions":MAILTO:contact@blocksmartsol.com
END:VEVENT
END:VCALENDAR