BEGIN:VCALENDAR
VERSION:2.0
PRODID:-//ChainWireNOW - ECPv6.14.2//NONSGML v1.0//EN
CALSCALE:GREGORIAN
METHOD:PUBLISH
X-ORIGINAL-URL:https://chainwirenow.com
X-WR-CALDESC:Events for ChainWireNOW
REFRESH-INTERVAL;VALUE=DURATION:PT1H
X-Robots-Tag:noindex
X-PUBLISHED-TTL:PT1H
BEGIN:VTIMEZONE
TZID:America/New_York
BEGIN:DAYLIGHT
TZOFFSETFROM:-0500
TZOFFSETTO:-0400
TZNAME:EDT
DTSTART:20260308T070000
END:DAYLIGHT
BEGIN:STANDARD
TZOFFSETFROM:-0400
TZOFFSETTO:-0500
TZNAME:EST
DTSTART:20261101T060000
END:STANDARD
END:VTIMEZONE
BEGIN:VEVENT
DTSTART;TZID=America/New_York:20260211T040000
DTEND;TZID=America/New_York:20260211T060000
DTSTAMP:20260419T171526
CREATED:20260207T120024Z
LAST-MODIFIED:20260207T120024Z
UID:992863-1770782400-1770789600@chainwirenow.com
SUMMARY:Unravelling NFTs (Non-Fungible Tokens) | San Francisco
DESCRIPTION:Overview\n\n\n\n\n\n2-hours live online training to help you understand the NFTs.\n\n\n\nThe workshop presents you with an opportunity to understand the basic concepts of NFT’s (Non-Fungible Tokens)\, and what makes them so special in today’s technologically advanced world. \nWe aim to empower you with concrete knowledge and understanding of various dynamics of NFT’s and enable you to get started with the decentralized new economy and its benefits over centralized finance. \nWould you like a 5% discount on this training? Click here to get the discount code. \nLearning Objectives:\n\nUnderstand the basics of NFT’s (Non-Fungible Tokens).\nDiscover Use Cases applied to various industries.\nLearn about getting into NFT’s\nUnderstanding the risks and benefits of investing in NFT.\n\nAgenda:\n\nBlockchain Fundamentals\nThe decentralized Layer\nBlockchain-based NFT’s\nHistory of NFT’s\nNFT’s market\nBusting the myths around NFT’s\nThe future of NFT’s\nQuestions & Answers\n\nPrerequisite:\nNo prior knowledge of blockchain or NFT’s (Non-Fungible Tokens) is required. \nWho can participate:\nAnyone with an interest in NFT’s (Non-Fungible Tokens)\, new economy\, generation of bankless\, cryptocurrency\, and trading. \nBy the end of this course\, you will have:\n\nSound understanding of various aspects of NFTs (Non Fungible Tokens).\nAbility to make informed decisions about choosing your next investment opportunities in NFT space.\nCertificate of attainment.\n\nNote:\n\nSubject to Terms & Conditions. Individual pricing only\, for corporates\, please contact us via our website or drop an email at contact@blocksmartsol.com.\nIf you are looking for alternate payment options\, please contact us via our website or drop an email at contact@blocksmartsol.com.\nAny advice or suggestion shared during the workshop is not financial advice. You should consider your circumstances before making an investment. Trading digital currencies is a high-risk investment\, and due consideration should be taken before making any investment decision.\nIt will be a live online event. The link will be shared after you register for the event.\n\nFAQs\nWhat can I bring to the event? \nA curious mind. 🙂 \nHow can I contact the organizer with any questions? \nYou can contact us via our website or drop an email at contact@blocksmartsol.com \nWill I get any documents for attending this workshop? \nYes. You will receive a BSS attainment certificate after the workshop. \nIs the certificate shareable on social media (e.g. LinkedIn)? \nYes. It is a digital certificate and you can share it with your peers/colleagues via social media (e.g. LinkedIn). \nIs there any group discount? \nYes. Please reach out via our website or drop an email at contact@blocksmartsol.com \nWhat’s the refund policy? \nCancellations made up to 30 days before the workshop receive a 70% refund; no refunds apply within 30 days. Please review the Terms and Conditions on our website for details. \nDo I have to bring my printed ticket to the event? \nNo need. It is a webinar and all you would need is a working computer and internet connection. \nIs my registration fee or ticket transferrable? \nYes. Please let us know up until 48 hours before the event. \nIs it ok if the name on my ticket or registration doesn’t match the person who attends? \nYes. Please let us know up until 48 hours before the event.
URL:https://chainwirenow.com/events/unravelling-nfts-non-fungible-tokens-san-francisco/
LOCATION:San Francisco  Online Event\, San Francisco\, CA 94104 United States
CATEGORIES:BlockChain
ATTACH;FMTTYPE=image/png:https://chainwirenow.com/wp-content/uploads/2026/02/Unravelling-NFTs-Non-Fungible-Tokens-San-Francisco-ChainWireNOW-Events.png
ORGANIZER;CN="Blockchain Smart Solutions":MAILTO:contact@blocksmartsol.com
END:VEVENT
BEGIN:VEVENT
DTSTART;TZID=America/New_York:20260211T060000
DTEND;TZID=America/New_York:20260211T080000
DTSTAMP:20260419T171526
CREATED:20260128T064909Z
LAST-MODIFIED:20260128T064909Z
UID:992797-1770789600-1770796800@chainwirenow.com
SUMMARY:Integrating Blockchain & AI (Artificial Intelligence) | Chicago
DESCRIPTION:Overview\n\n\n\n\n\n2-hours live online training to help you navigate the convergence of Blockchain and AI (Artificial Intelligence).\n\n\n\nThe workshop presents you with an opportunity to explore the dynamic integration of Blockchain and AI\, offering insights into how these technologies together can revolutionize data integrity\, transparency\, and efficiency across sectors. \nParticipants will delve into use cases\, future trends\, and strategic implementation\, equipped with the knowledge to anticipate innovations and address challenges in this interdisciplinary field. \nWe aim to empower you with concrete knowledge and understanding for leveraging Blockchain and AI for enhanced decision-making and operational excellence\, targeting professionals eager to navigate the complexities of these transformative technologies. \nWould you like a 5% discount on this training? Click here to get the discount code. \nLearning Objectives:\n\nUnderstand the basics of foundational principles of Blockchain and AI\, and how their integration can enhance data security\, transparency\, and decision-making processes.\nExplore specific use cases where Blockchain and AI are jointly applied across various industries.\nAnticipate future trends and innovations at the intersection of Blockchain and AI\, including potential impacts on society and industry.\nDevelop strategic insights on implementing Blockchain and AI technologies in business settings.\n\nAgenda:\n\nBlockchain and AI (Artificial Intelligence) basics.\nUse Cases of Blockchain and AI Integration\nFuture Trends and Innovations\nStrategic Implementation and Industry Impact\nChallenges and Considerations\nQuestions & Answers\n\nPrerequisite:\n\nNo prior knowledge of blockchain or Blockchain and AI (Artificial Intelligence) is required.\n\nWho can participate:\n\nAnyone with an interest in Blockchain technology\, AI (Artificial Intelligence).\n\nBy the end of this course\, you will have:\n\nThorough understanding of Blockchain technology and its convergence with AI (Artificial Intelligence).\nCertificate of attainment.\n\nNote:\n\nSubject to Terms & Conditions. Individual pricing only\, for corporates\, please contact us via our website or drop an email at contact@blocksmartsol.com.\nIf you are looking for alternate payment options\, please contact us via our website\, or drop an email at contact@blocksmartsol.com.\n\nFAQs\nWhat can I bring to the event? \nA curious mind. 🙂 \nHow can I contact the organiser with any questions? \nYou can contact us via our website or drop an email at contact@blocksmartsol.com \nWill I get any documents for attending this workshop? \nYes. You will receive a BSS attainment certificate after the workshop. \nIs the certificate shareable on social media (e.g. LinkedIn)? \nYes. It is a digital certificate and you can share it with your peers/colleagues via social media (e.g. LinkedIn). \nIs there any group discount? \nYes. Please reach out via our website or drop an email at contact@blocksmartsol.com \nWhat’s the refund policy? \nCancellations made up to 30 days before the workshop receive a 70% refund; no refunds apply within 30 days. Please review the Terms and Conditions on our website for details. \nDo I have to bring my printed ticket to the event? \nNo need. It is a webinar and all you would need is a working computer and internet connection. \nIs my registration fee or ticket transferrable? \nYes. Please let us know up until 48 hours before the event. \nIs it ok if the name on my ticket or registration doesn’t match the person who attends? \nYes. Please let us know up until 48 hours before the event.
URL:https://chainwirenow.com/events/integrating-blockchain-ai-artificial-intelligence-chicago-2/
LOCATION:Chicago  Online Event\, Chicago\, IL 60007 United States
CATEGORIES:BlockChain
ATTACH;FMTTYPE=image/jpeg:https://chainwirenow.com/wp-content/uploads/2026/01/Integrating-Blockchain-AI-Artificial-Intelligence-Chicago-ChainWireNOW-Events-2.jpg
ORGANIZER;CN="Blockchain Smart Solutions":MAILTO:contact@blocksmartsol.com
END:VEVENT
BEGIN:VEVENT
DTSTART;TZID=America/New_York:20260211T070000
DTEND;TZID=America/New_York:20260211T090000
DTSTAMP:20260419T171526
CREATED:20260127T063917Z
LAST-MODIFIED:20260127T063917Z
UID:992781-1770793200-1770800400@chainwirenow.com
SUMMARY:Blockchain Fundamentals for Professionals | New York City
DESCRIPTION:Overview\n\n\n\n\n\nLearn the basics of blockchain technology and its real-world applications across various industries.\n\n\n\nWelcome to Blockchain Fundamentals for Professionals! \nAre you ready to harness the power of blockchain technology in your career or business? \nUnlock the transformative potential of blockchain by exploring its cutting-edge innovations\, real-world applications\, and the profound impact it’s having across industries. In this workshop\, you’ll gain practical insights into how blockchain enhances transparency\, security\, and efficiency in various sectors. \nParticipants will explore the core principles of blockchain technology\, from decentralized networks to smart contracts\, and learn how businesses leverage blockchain to drive innovation and streamline operations. Real-world case studies will showcase successful implementations\, giving you a clear roadmap to apply blockchain in your industry. \nJoin us and discover how blockchain can revolutionize how you operate and open new growth opportunities! \nClaim a 5% Discount on this workshop\, click here to access! \nWhy Learn About Blockchain Technology\nIn today’s rapidly evolving digital landscape\, blockchain is a key technology driving innovation\, security\, and transparency across industries. Learning about blockchain equips you with essential knowledge of decentralized systems\, allowing you to understand how this technology can revolutionize data security\, transactions\, and business processes. \nAs industries like finance\, healthcare\, supply chain\, and government adopt blockchain\, professionals who grasp its fundamentals are positioned to lead\, innovate\, and gain a competitive edge. \nBy learning blockchain\, you gain the skills to: \n01) Stay Competitive: Keep up with emerging technology trends and gain a valuable edge in the digital age. \n02) Boost Security and Transparency: Understand how blockchain enhances security and trust in digital transactions and data management. \n03) Explore New Career and Business Opportunities: Whether you’re an entrepreneur or a professional\, blockchain expertise opens doors to new opportunities in tech-driven industries. \nIn a world where blockchain is transforming how businesses operate\, learning about it is crucial for anyone looking to stay ahead and thrive in the future. \nWhat You’ll Gain from this Workshop\n01) Comprehensive Understanding of Blockchain Technology\nGain a solid foundation in the core concepts of blockchain\, including decentralized networks\, cryptography\, and smart contracts. \n02) Real-World Applications Across Industries\nDiscover how blockchain is being applied in industries like finance\, healthcare\, supply chain\, and beyond\, and learn how it’s transforming traditional processes. \n03) Practical Knowledge to Implement Blockchain Solutions\nLearn actionable strategies for leveraging blockchain technology to improve transparency\, security\, and efficiency in your business or career. \n04) Insights from Case Studies\nExplore real-world case studies showcasing successful blockchain adoption and gain valuable insights into overcoming challenges and driving innovation. \nWho Should Attend\n01) Business Leaders and Entrepreneurs\nProfessionals looking to understand how blockchain can transform their business operations\, enhance security\, and drive innovation. \n02) Technology Enthusiasts and Innovators\nIndividuals interested in the emerging blockchain landscape and eager to explore how it can be applied across different industries. \n03) Finance\, IT\, and Operations Professionals\nProfessionals working in finance\, technology\, or operational roles\, and keen to streamline processes and improve transparency in their sectors.
URL:https://chainwirenow.com/events/blockchain-fundamentals-for-professionals-new-york-city-5/
LOCATION:New York\, Online Event New York\, NY 10001
CATEGORIES:BlockChain
ATTACH;FMTTYPE=image/jpeg:https://chainwirenow.com/wp-content/uploads/2026/01/Blockchain-Fundamentals-for-Professionals-New-York-City-ChainWireNOW-Events-3.jpg
END:VEVENT
END:VCALENDAR