BEGIN:VCALENDAR
VERSION:2.0
PRODID:-//ChainWireNOW - ECPv6.14.2//NONSGML v1.0//EN
CALSCALE:GREGORIAN
METHOD:PUBLISH
X-ORIGINAL-URL:https://chainwirenow.com
X-WR-CALDESC:Events for ChainWireNOW
REFRESH-INTERVAL;VALUE=DURATION:PT1H
X-Robots-Tag:noindex
X-PUBLISHED-TTL:PT1H
BEGIN:VTIMEZONE
TZID:America/New_York
BEGIN:DAYLIGHT
TZOFFSETFROM:-0500
TZOFFSETTO:-0400
TZNAME:EDT
DTSTART:20260308T070000
END:DAYLIGHT
BEGIN:STANDARD
TZOFFSETFROM:-0400
TZOFFSETTO:-0500
TZNAME:EST
DTSTART:20261101T060000
END:STANDARD
END:VTIMEZONE
BEGIN:VEVENT
DTSTART;TZID=America/New_York:20260213T040000
DTEND;TZID=America/New_York:20260213T060000
DTSTAMP:20260419T191556
CREATED:20260207T115411Z
LAST-MODIFIED:20260207T115411Z
UID:992860-1770955200-1770962400@chainwirenow.com
SUMMARY:Unravelling NFTs (Non-Fungible Tokens) New York City
DESCRIPTION:Overview\n\n\n\n\n\n2-hours live online training to help you understand the NFTs.\n\n\n\nThe workshop presents you with an opportunity to understand the basic concepts of NFT’s (Non-Fungible Tokens)\, and what makes them so special in today’s technologically advanced world. \nWe aim to empower you with concrete knowledge and understanding of various dynamics of NFT’s and enable you to get started with the decentralized new economy and its benefits over centralized finance. \nWould you like a 5% discount on this training? Click here to get the discount code. \nLearning Objectives:\n\nUnderstand the basics of NFT’s (Non-Fungible Tokens).\nDiscover Use Cases applied to various industries.\nLearn about getting into NFT’s\nUnderstanding the risks and benefits of investing in NFT.\n\nAgenda:\n\nBlockchain Fundamentals\nThe decentralized Layer\nBlockchain-based NFT’s\nHistory of NFT’s\nNFT’s market\nBusting the myths around NFT’s\nThe future of NFT’s\nQuestions & Answers\n\nPrerequisite:\nNo prior knowledge of blockchain or NFT’s (Non-Fungible Tokens) is required. \nWho can participate:\nAnyone with an interest in NFT’s (Non-Fungible Tokens)\, new economy\, generation of bankless\, cryptocurrency\, and trading. \nBy the end of this course\, you will have:\n\nSound understanding of various aspects of NFTs (Non Fungible Tokens).\nAbility to make informed decisions about choosing your next investment opportunities in NFT space.\nCertificate of attainment.\n\nNote:\n\nSubject to Terms & Conditions. Individual pricing only\, for corporates\, please contact us via our website or drop an email at contact@blocksmartsol.com.\nIf you are looking for alternate payment options\, please contact us via our website or drop an email at contact@blocksmartsol.com.\nAny advice or suggestion shared during the workshop is not financial advice. You should consider your circumstances before making an investment. Trading digital currencies is a high-risk investment\, and due consideration should be taken before making any investment decision.\nIt will be a live online event. The link will be shared after you register for the event.\n\nFAQs\nWhat can I bring to the event? \nA curious mind. 🙂 \nHow can I contact the organizer with any questions? \nYou can contact us via our website or drop an email at contact@blocksmartsol.com \nWill I get any documents for attending this workshop? \nYes. You will receive a BSS attainment certificate after the workshop. \nIs the certificate shareable on social media (e.g. LinkedIn)? \nYes. It is a digital certificate and you can share it with your peers/colleagues via social media (e.g. LinkedIn). \nIs there any group discount? \nYes. Please reach out via our website or drop an email at contact@blocksmartsol.com \nWhat’s the refund policy? \nCancellations made up to 30 days before the workshop receive a 70% refund; no refunds apply within 30 days. Please review the Terms and Conditions on our website for details. \nDo I have to bring my printed ticket to the event? \nNo need. It is a webinar and all you would need is a working computer and internet connection. \nIs my registration fee or ticket transferrable? \nYes. Please let us know up until 48 hours before the event. \nIs it ok if the name on my ticket or registration doesn’t match the person who attends? \nYes. Please let us know up until 48 hours before the event.
URL:https://chainwirenow.com/events/unravelling-nfts-non-fungible-tokens-new-york-city/
LOCATION:New York  Online Event\, New York\, NY 10001 United States
CATEGORIES:BlockChain
ATTACH;FMTTYPE=image/png:https://chainwirenow.com/wp-content/uploads/2026/02/Unravelling-NFTs-Non-Fungible-Tokens-New-York-City-ChainWireNOW-Events.png
ORGANIZER;CN="Blockchain Smart Solutions":MAILTO:contact@blocksmartsol.com
END:VEVENT
BEGIN:VEVENT
DTSTART;TZID=America/New_York:20260213T040000
DTEND;TZID=America/New_York:20260213T060000
DTSTAMP:20260419T191556
CREATED:20260209T121047Z
LAST-MODIFIED:20260209T121047Z
UID:992891-1770955200-1770962400@chainwirenow.com
SUMMARY:Unravelling NFTs (Non-Fungible Tokens) | Washington\, DC
DESCRIPTION:Overview\n\n\n\n\n\n2-hours live online training to help you understand the NFTs.\n\n\n\nThe workshop presents you with an opportunity to understand the basic concepts of NFT’s (Non-Fungible Tokens)\, and what makes them so special in today’s technologically advanced world. \nWe aim to empower you with concrete knowledge and understanding of various dynamics of NFT’s and enable you to get started with the decentralized new economy and its benefits over centralized finance. \nWould you like a 5% discount on this training? Click here to get the discount code. \nLearning Objectives:\n\nUnderstand the basics of NFT’s (Non-Fungible Tokens).\nDiscover Use Cases applied to various industries.\nLearn about getting into NFT’s\nUnderstanding the risks and benefits of investing in NFT.\n\nAgenda:\n\nBlockchain Fundamentals\nThe decentralized Layer\nBlockchain-based NFT’s\nHistory of NFT’s\nNFT’s market\nBusting the myths around NFT’s\nThe future of NFT’s\nQuestions & Answers\n\nPrerequisite:\nNo prior knowledge of blockchain or NFT’s (Non-Fungible Tokens) is required. \nWho can participate:\nAnyone with an interest in NFT’s (Non-Fungible Tokens)\, new economy\, generation of bankless\, cryptocurrency\, and trading. \nBy the end of this course\, you will have:\n\nSound understanding of various aspects of NFTs (Non Fungible Tokens).\nAbility to make informed decisions about choosing your next investment opportunities in NFT space.\nCertificate of attainment.\n\nNote:\n\nSubject to Terms & Conditions. Individual pricing only\, for corporates\, please contact us via our website or drop an email at contact@blocksmartsol.com.\nIf you are looking for alternate payment options\, please contact us via our website or drop an email at contact@blocksmartsol.com.\nAny advice or suggestion shared during the workshop is not financial advice. You should consider your circumstances before making an investment. Trading digital currencies is a high-risk investment\, and due consideration should be taken before making any investment decision.\nIt will be a live online event. The link will be shared after you register for the event.\n\nFAQs\nWhat can I bring to the event? \nA curious mind. 🙂 \nHow can I contact the organizer with any questions? \nYou can contact us via our website or drop an email at contact@blocksmartsol.com \nWill I get any documents for attending this workshop? \nYes. You will receive a BSS attainment certificate after the workshop. \nIs the certificate shareable on social media (e.g. LinkedIn)? \nYes. It is a digital certificate and you can share it with your peers/colleagues via social media (e.g. LinkedIn). \nIs there any group discount? \nYes. Please reach out via our website or drop an email at contact@blocksmartsol.com \nWhat’s the refund policy? \nCancellations made up to 30 days before the workshop receive a 70% refund; no refunds apply within 30 days. Please review the Terms and Conditions on our website for details. \nDo I have to bring my printed ticket to the event? \nNo need. It is a webinar and all you would need is a working computer and internet connection. \nIs my registration fee or ticket transferrable? \nYes. Please let us know up until 48 hours before the event. \nIs it ok if the name on my ticket or registration doesn’t match the person who attends? \nYes. Please let us know up until 48 hours before the event.
URL:https://chainwirenow.com/events/unravelling-nfts-non-fungible-tokens-washington-dc-2/
LOCATION:Washington DC\, Online Event Washington\, DC 20024 United States
CATEGORIES:BlockChain
ATTACH;FMTTYPE=image/png:https://chainwirenow.com/wp-content/uploads/2026/02/Unravelling-NFTs-Non-Fungible-Tokens-San-Francisco-ChainWireNOW-Events.png
ORGANIZER;CN="Blockchain Smart Solutions":MAILTO:contact@blocksmartsol.com
END:VEVENT
BEGIN:VEVENT
DTSTART;TZID=America/New_York:20260213T040000
DTEND;TZID=America/New_York:20260213T120000
DTSTAMP:20260419T191556
CREATED:20260108T072823Z
LAST-MODIFIED:20260108T072823Z
UID:992441-1770955200-1770984000@chainwirenow.com
SUMMARY:Intro to Blockchain for Non-Developers – 1-Day Course | Chicago\, IL
DESCRIPTION:Overview\n\n\n\n\n\nLearn blockchain in clear\, business-friendly terms & understand when and how it delivers real value—without any coding or technical complexi\n\n\n\nGroup Discounts:\nSave 10% when registering 3 or more participants\nSave 15% when registering 10 or more participants \nAbout the course:\nDuration: 1 Full Day (8 Hours)\nDelivery Mode: Classroom (In-Person)\nLanguage: English\nCredits: 8 PDUs / Training Hours\nCertification: Course Completion Certificate\nRefreshments: Lunch\, Snacks and beverages will be provided during the session \nCourse Overview:\nThis workshop provides a clear and practical introduction to blockchain technology for business professionals without technical backgrounds. You learn what blockchain does\, why organizations use it\, and the types of problems it can realistically solve. The session focuses on understanding business value\, evaluating use cases\, and making informed decisions—not programming or advanced technical detail. By the end of the day\, participants will be able to confidently discuss blockchain opportunities and assess whether it is the right solution for a given business need. \nLearning Objectives\nBy the end of this course\, you will: \n• Understand blockchain in simple and practical terms\n• Identify real business problems blockchain is suitable for\n• Evaluate use cases and avoid technology hype\n• Understand smart contracts without coding\n• Assess organizational readiness for blockchain adoption\n• Create a clear next-step exploration plan for your organization \nTarget Audience:\n• Business Professionals & Managers\n• Consultants & Strategy Advisors\n• Entrepreneurs & Startup Builders\n• Product & Innovation Teams\n• Supply Chain\, Finance & Operations Leaders \nWhy Choose This Course?\nBlockchain can deliver real organizational value\, but many teams struggle to separate genuine business benefits from technology hype. This course explains blockchain in clear\, strategic terms so professionals can make informed and confident decisions. \nYou learn how to identify when blockchain is helpful\, when it is unnecessary\, and how to evaluate use cases objectively. The focus is on clarity\, practicality\, and business relevance—not technical deep dives. \n©2025 Mangates Tech Solutions Pvt Ltd. This content is protected by copyright law. Copy or Reproduction without permission is prohibited. \n\n\n\n\nOur Royalty Referral Program\nKnow a team or professional who could benefit from our workshops? Refer them and earn attractive royalties for every successful registration. \nFor royalty-related queries\, contact orders@mangates.com \n\n\n\n\nWant to train your entire team?\nIn-house sessions can be fully customized to your industry\, workflows\, strategic priorities\, and existing digital systems to ensure the learning directly supports real decision-making. \n📧 Contact us today to schedule a customized in-house session: corporate@mangates.com \n\n\n\n     \nhttps://youtu.be/5I2BlhXspuM
URL:https://chainwirenow.com/events/intro-to-blockchain-for-non-developers-1-day-course-chicago-il-2/
LOCATION:regus IL\, Chicago – 111 W. Jackson\, 111 W. Jackson Suite 1700 Ph No +1 469 666 9332 Chicago\, IL 60604 United States
CATEGORIES:BlockChain
ATTACH;FMTTYPE=image/jpeg:https://chainwirenow.com/wp-content/uploads/2026/01/Intro-to-Blockchain-for-Non-Developers-–-1-Day-Course-Chicago-IL-ChainWireNOW-Events.jpg
ORGANIZER;CN="Mangates":MAILTO:info@mangates.com
END:VEVENT
END:VCALENDAR