BEGIN:VCALENDAR
VERSION:2.0
PRODID:-//ChainWireNOW - ECPv6.14.2//NONSGML v1.0//EN
CALSCALE:GREGORIAN
METHOD:PUBLISH
X-WR-CALNAME:ChainWireNOW
X-ORIGINAL-URL:https://chainwirenow.com
X-WR-CALDESC:Events for ChainWireNOW
REFRESH-INTERVAL;VALUE=DURATION:PT1H
X-Robots-Tag:noindex
X-PUBLISHED-TTL:PT1H
BEGIN:VTIMEZONE
TZID:America/New_York
BEGIN:DAYLIGHT
TZOFFSETFROM:-0500
TZOFFSETTO:-0400
TZNAME:EDT
DTSTART:20260308T070000
END:DAYLIGHT
BEGIN:STANDARD
TZOFFSETFROM:-0400
TZOFFSETTO:-0500
TZNAME:EST
DTSTART:20261101T060000
END:STANDARD
END:VTIMEZONE
BEGIN:VEVENT
DTSTART;TZID=America/New_York:20260228T130000
DTEND;TZID=America/New_York:20260228T140000
DTSTAMP:20260419T152536
CREATED:20260217T091507Z
LAST-MODIFIED:20260217T091507Z
UID:992922-1772283600-1772287200@chainwirenow.com
SUMMARY:Let’s Talk About Money: Teaching Financial Literacy to Children & Families
DESCRIPTION:Overview\n\n\n\n\n\nJoin us for a fun and interactive session on teaching kids about money – it’s never too early to start!\n\n\n\nMoney Lessons Start Earlier Than We Think \nChildren often begin learning about money before they can explain what money is. They pay attention to the pauses at the checkout line\, the tone adults use when talking about bills\, and the way spending decisions are discussed at home. Over time\, these small observations shape what children believe money means and how safe it feels to ask questions about it. \nMany parents want their children to grow up confident and financially capable. Many parents also carry financial stress or uncertainty from their own upbringing. That experience can make it hard to know where to begin\, even with the best intentions. \nThe Moments Parents Get Caught In \nMost families do not sit down for a formal “money talk. The real conversations usually happen in the middle of life when kids are curious and parents are busy. For example\, when a child asksyou to buy them something expensive at a store\, quoting the price as “only this much”. Many parents want to answer in a way that feels honest without handing a child adult worries. It’s important to recognize the way kids see money today when developing a response. \nMoney Looks Different for Kids Today \nToday’s children see money move quickly through digital tools. They notice debit cards\, \npayment apps\, online shopping\, and in-app purchases that make spending feel effortless. They also see content that encourages impulse buying and treats spending as entertainment. Older children may hear about cryptocurrency through social media\, games\, or conversationswith friends. Parents do not need to teach every detail at once. Parents do benefit from having a steady way to respond when these topics come up\, especially when a child sounds curious or confident without understanding the risks. \nParticipants will explore why money conversations can feel challenging\, when to begin \nage-appropriate discussions\, and how families can use a simple plan to build healthier financial \nhabits at home.
URL:https://chainwirenow.com/events/teaching-financial-literacy-to-children-families/
LOCATION:Online event
CATEGORIES:BlockChain
ATTACH;FMTTYPE=image/jpeg:https://chainwirenow.com/wp-content/uploads/2026/02/Lets-Talk-About-Money-Teaching-Financial-Literacy-to-Children-Families-ChainWireNOW-Event.jpg
ORGANIZER;CN="Junior Wallstreeters%2C Inc":MAILTO:kevon@theblackwallstreeter.com
END:VEVENT
END:VCALENDAR