BEGIN:VCALENDAR
VERSION:2.0
PRODID:-//ChainWireNOW - ECPv6.14.2//NONSGML v1.0//EN
CALSCALE:GREGORIAN
METHOD:PUBLISH
X-WR-CALNAME:ChainWireNOW
X-ORIGINAL-URL:https://chainwirenow.com
X-WR-CALDESC:Events for ChainWireNOW
REFRESH-INTERVAL;VALUE=DURATION:PT1H
X-Robots-Tag:noindex
X-PUBLISHED-TTL:PT1H
BEGIN:VTIMEZONE
TZID:America/New_York
BEGIN:DAYLIGHT
TZOFFSETFROM:-0500
TZOFFSETTO:-0400
TZNAME:EDT
DTSTART:20250309T070000
END:DAYLIGHT
BEGIN:STANDARD
TZOFFSETFROM:-0400
TZOFFSETTO:-0500
TZNAME:EST
DTSTART:20251102T060000
END:STANDARD
END:VTIMEZONE
BEGIN:VEVENT
DTSTART;TZID=America/New_York:20250311T190000
DTEND;TZID=America/New_York:20250310T220000
DTSTAMP:20260420T232209
CREATED:20250120T100458Z
LAST-MODIFIED:20250120T100823Z
UID:990470-1741719600-1741644000@chainwirenow.com
SUMMARY:AI & Blockchain: Driving Innovation and Investment
DESCRIPTION:About this event\n\n\nThe event lasts 3 hours\n\n\n\n\n\n\nArtificial Intelligence (AI) and Blockchain are transforming industries\, offering unparalleled opportunities for innovation and investment. Join us at this cutting-edge event where thought leaders and innovators converge to explore the synergy between AI and Blockchain technologies. \nIn this expert-led panel discussion\, we will explore topics including decentralized AI\, secure data sharing\, tokenization of assets and AI-driven blockchain analytics. Discover how these technologies are reshaping sectors such as finance\, healthcare\, supply chain and beyond. Hear about case studies that highlight successful implementations and identify emerging trends driving growth in these markets. \nWhether you’re an investor\, entrepreneur or technologist\, this event provides insights into the convergence of AI and Blockchain\, unlocking transformative opportunities for growth and innovation in an increasingly digital and decentralized world. \nPanelists will be announced shortly. \nEvent Sponsor: Bloc-Haus
URL:https://chainwirenow.com/events/ai-blockchain-driving-innovation-and-investment/
LOCATION:The Hoxton\, Chicago\, 200 North Green Street Chicago\, IL 60607 United States
CATEGORIES:BlockChain
ATTACH;FMTTYPE=image/jpeg:https://chainwirenow.com/wp-content/uploads/2025/01/AI-Blockchain-Driving-Innovation-and-Investment-ChainWireNOW-Events.jpeg
ORGANIZER;CN="The Mankoff Company":MAILTO:info@themankoffcompany.com
END:VEVENT
END:VCALENDAR