BEGIN:VCALENDAR
VERSION:2.0
PRODID:-//ChainWireNOW - ECPv6.14.2//NONSGML v1.0//EN
CALSCALE:GREGORIAN
METHOD:PUBLISH
X-WR-CALNAME:ChainWireNOW
X-ORIGINAL-URL:https://chainwirenow.com
X-WR-CALDESC:Events for ChainWireNOW
REFRESH-INTERVAL;VALUE=DURATION:PT1H
X-Robots-Tag:noindex
X-PUBLISHED-TTL:PT1H
BEGIN:VTIMEZONE
TZID:America/New_York
BEGIN:DAYLIGHT
TZOFFSETFROM:-0500
TZOFFSETTO:-0400
TZNAME:EDT
DTSTART:20250309T070000
END:DAYLIGHT
BEGIN:STANDARD
TZOFFSETFROM:-0400
TZOFFSETTO:-0500
TZNAME:EST
DTSTART:20251102T060000
END:STANDARD
END:VTIMEZONE
BEGIN:VEVENT
DTSTART;TZID=America/New_York:20250201T100000
DTEND;TZID=America/New_York:20250201T140000
DTSTAMP:20260421T041629
CREATED:20250127T102000Z
LAST-MODIFIED:20250127T102000Z
UID:990620-1738404000-1738418400@chainwirenow.com
SUMMARY:ESCAPE THE MATRIX: Discover How to Overcome CBDCs with Sound Money Alternatives
DESCRIPTION:About this event\n\n\n\n\n\n\nNote: This event has been rescheduled. We don’t have an exact date yet\, but will be after the 1st of the year. \nJoin us on November 9th for an unparalleled workshop based on the groundbreaking book\, “The Final Countdown: Crypto\, Gold\, Silver\, and the People’s Last Stand Against Tyranny by CBDCs.” This isn’t just another financial literacy course. It’s a deep dive into the future of money\, sovereignty\, and how to battle digital authoritarianism. You will walk away from the event with cryptocurrency\, gold\, and silver in your physical possession as well as an autographed copy of The Final Countdown: Crypto\, Gold\, Silver and the People’s Last Stand Against Tyranny by Central Bank Digital Currencies. \n\n\n\n\nHere’s what you’ll gain:\nFuturistic Insight with Real-World Implications:\nExperience a riveting narrative that brings to life a possible future under global technocracy. Understand the CBDC threat intertwined with Universal Basic Income (UBI)\, digital IDs\, and social credit scores\, and realize how these elements are not just fiction but emerging realities. \nUncover the Surveillance State:\nPeel back the layers of global surveillance laws punishing freedom at the micro level. Learn how fiction mirrors the chilling truths of our world today. Decipher the Global Technocracy Agenda: Explore the origins\, motives\, and frighteningly well-organized efforts behind the push for a one-world government. Unmask the architects of control and their vision for our future. \nInside the CBDC Development:\nGet an insider’s look at the advancement of CBDCs globally\, with a focus on U.S. pilots and political moves suggesting a rollout before the next election cycle. Understand the implications for personal freedom and financial sovereignty. \nThe Dollar’s Demise and the Fiat Failure:\nAnalyze the historical trajectory of fiat currencies towards inevitable collapse\, and discover why the US dollar is no exception. Prepare for the future by understanding the past. \nThe Great Taking Exposed:\nUncover a chilling plan by financial elites to orchestrate a massive global asset seizure through manipulated financial systems and laws. Learn how changes to securities ownership\, banking regulations\, and settlement processes are setting the stage for an unprecedented transfer of wealth during an engineered financial crisis. Understand the connection between this scheme and the push for CBDCs\, revealing how seemingly separate financial trends are part of a coordinated effort to reshape global economic control. \nCryptocurrency Demystified:\nFrom blockchain basics to navigating the crypto market\, learn how digital currencies offer a revolutionary alternative to traditional money. Get equipped to identify the few cryptos that could replace cash. \nNavigating Regulatory Storms:\nUnderstand the significant regulatory actions and crackdowns shaping the crypto landscape. Learn to secure your assets against governmental overreach. \nThe Truth About the Bitcoin Exchange-Traded Funds (ETFs):\nExplore the controversial case against Bitcoin ETFs and what it means for investors and the broader crypto ecosystem. Gold and Silver Unveiled: Journey through the history of precious metals as the original money. Learn about the risks\, rewards\, and scandals that have shaped the gold and silver markets.
URL:https://chainwirenow.com/events/escape-the-matrix-discover-how-to-overcome-cbdcs-with-sound-money-alternatives/
LOCATION:Creighton University\, 2500 California Plaza Omaha\, NE 68178 United States
CATEGORIES:BlockChain
ATTACH;FMTTYPE=image/jpeg:https://chainwirenow.com/wp-content/uploads/2025/01/ESCAPE-THE-MATRIX-Discover-How-to-Overcome-CBDCs-with-Sound-Money-Alternatives-ChainWireNOW-Events.jpeg
END:VEVENT
END:VCALENDAR